BEGIN:VCALENDAR
VERSION:2.0
PRODID:-//eventon.com NONSGML v1.0//EN
CALSCALE:GREGORIAN
METHOD:PUBLISH
BEGIN:VEVENT
UID:69e89a0cd2464
DTSTAMP:20260422T095108Z
DTSTART:20200501
DTEND:20200502
LOCATION:
SUMMARY:Rescheduled TBA
DESCRIPTION:Rescheduled TBA\nhttps://stierwaltcattleandclinics.com/events/m
 ay-1-3-2020/
URL:https://stierwaltcattleandclinics.com/events/may-1-3-2020/
END:VEVENT
END:VCALENDAR