BEGIN:VCALENDAR
VERSION:2.0
PRODID:-//eventon.com NONSGML v1.0//EN
CALSCALE:GREGORIAN
METHOD:PUBLISH
BEGIN:VEVENT
UID:69e9f8d2449f2
DTSTAMP:20260423T104746Z
DTSTART:20200221
DTEND:20200222
LOCATION:
SUMMARY:FEBRUARY 21-22\,  2020
DESCRIPTION:Illinois Beef Expo Springfield\,  Illinois Honor Show Seminars 
 with Kirk Stierwalt in the Purina booth. Â  Â  Â  Â  Â  Â  Â  Friday\,  Feb
 . 21 â€“ 11:00 AM â€“ High Octane Supplements â€“ Where they fit Â  Â  Â  Â
   Â  Â  Â  Friday\,  Feb. 21 â€“ Show Cattle Type[..]\nhttps://stierwaltcat
 tleandclinics.com/events/february-21-22-2020/
URL:https://stierwaltcattleandclinics.com/events/february-21-22-2020/
END:VEVENT
END:VCALENDAR