BEGIN:VCALENDAR
VERSION:2.0
PRODID:-//eventon.com NONSGML v1.0//EN
CALSCALE:GREGORIAN
METHOD:PUBLISH
BEGIN:VEVENT
UID:69ebd3667f99e
DTSTAMP:20260424T203238Z
DTSTART:20201106
DTEND:20201107
LOCATION:
SUMMARY:NOVEMBER 6-8\,  2020
DESCRIPTION:NOVEMBER 6-8\,  2020\nhttps://stierwaltcattleandclinics.com/eve
 nts/november-6-8-2020/
URL:https://stierwaltcattleandclinics.com/events/november-6-8-2020/
END:VEVENT
END:VCALENDAR