BEGIN:VCALENDAR
VERSION:2.0
PRODID:-//eventon.com NONSGML v1.0//EN
CALSCALE:GREGORIAN
METHOD:PUBLISH
BEGIN:VEVENT
UID:69e7bd4f823a3
DTSTAMP:20260421T180919Z
DTSTART:20210604
DTEND:20210605
LOCATION:
SUMMARY:JUNE 4-6\,  2021
DESCRIPTION:JUNE 4-6\,  2021\nhttps://stierwaltcattleandclinics.com/events/
 may-28-30-2021/
URL:https://stierwaltcattleandclinics.com/events/may-28-30-2021/
END:VEVENT
END:VCALENDAR