BEGIN:VCALENDAR
VERSION:2.0
PRODID:-//eventon.com NONSGML v1.0//EN
CALSCALE:GREGORIAN
METHOD:PUBLISH
BEGIN:VEVENT
UID:69e8a502d23bc
DTSTAMP:20260422T103754Z
DTSTART:20210514
DTEND:20210515
LOCATION:
SUMMARY:MAY 14-16\,  2021
DESCRIPTION:MAY 14-16\,  2021\nhttps://stierwaltcattleandclinics.com/events
 /may-14-16-2021/
URL:https://stierwaltcattleandclinics.com/events/may-14-16-2021/
END:VEVENT
END:VCALENDAR