BEGIN:VCALENDAR
VERSION:2.0
PRODID:-//eventon.com NONSGML v1.0//EN
CALSCALE:GREGORIAN
METHOD:PUBLISH
BEGIN:VEVENT
UID:69eb25f57d948
DTSTAMP:20260424T081237Z
DTSTART:20210723
DTEND:20210724
LOCATION:
SUMMARY:JULY 23-24\,  2021
DESCRIPTION:JULY 23-24\,  2021\nhttps://stierwaltcattleandclinics.com/event
 s/july-23-24-2021/
URL:https://stierwaltcattleandclinics.com/events/july-23-24-2021/
END:VEVENT
END:VCALENDAR