BEGIN:VCALENDAR
VERSION:2.0
PRODID:-//eventon.com NONSGML v1.0//EN
CALSCALE:GREGORIAN
METHOD:PUBLISH
BEGIN:VEVENT
UID:69e9b3fb578a1
DTSTAMP:20260423T055403Z
DTSTART:20221001
DTEND:20221002
LOCATION:
SUMMARY:OCTOBER 2022
DESCRIPTION:OCTOBER 2022\nhttps://stierwaltcattleandclinics.com/events/octo
 ber-2022/
URL:https://stierwaltcattleandclinics.com/events/october-2022/
END:VEVENT
END:VCALENDAR