BEGIN:VCALENDAR
VERSION:2.0
PRODID:-//eventon.com NONSGML v1.0//EN
CALSCALE:GREGORIAN
METHOD:PUBLISH
BEGIN:VEVENT
UID:69eb45775c164
DTSTAMP:20260424T102703Z
DTSTART:20230324
DTEND:20230325
LOCATION:
SUMMARY:MARCH 24-26\,  2023
DESCRIPTION:MARCH 24-26\,  2023\nhttps://stierwaltcattleandclinics.com/even
 ts/march-24-26-2023/
URL:https://stierwaltcattleandclinics.com/events/march-24-26-2023/
END:VEVENT
END:VCALENDAR