BEGIN:VCALENDAR
VERSION:2.0
PRODID:-//eventon.com NONSGML v1.0//EN
CALSCALE:GREGORIAN
METHOD:PUBLISH
BEGIN:VEVENT
UID:69eae63cbfbbe
DTSTAMP:20260424T034044Z
DTSTART:20230812
DTEND:20230813
LOCATION:
SUMMARY:AUGUST 12\,  2023
DESCRIPTION:AUGUST 12\,  2023\nhttps://stierwaltcattleandclinics.com/events
 /august-12-2023/
URL:https://stierwaltcattleandclinics.com/events/august-12-2023/
END:VEVENT
END:VCALENDAR