BEGIN:VCALENDAR
VERSION:2.0
PRODID:-//eventon.com NONSGML v1.0//EN
CALSCALE:GREGORIAN
METHOD:PUBLISH
BEGIN:VEVENT
UID:69ea9d1cbf2bf
DTSTAMP:20260423T222844Z
DTSTART:20240405
DTEND:20240406
LOCATION:
SUMMARY:APRIL 5-7\,  2024
DESCRIPTION:APRIL 5-7\,  2024\nhttps://stierwaltcattleandclinics.com/events
 /april-5-7-2024/
URL:https://stierwaltcattleandclinics.com/events/april-5-7-2024/
END:VEVENT
END:VCALENDAR