BEGIN:VCALENDAR
VERSION:2.0
PRODID:-//eventon.com NONSGML v1.0//EN
CALSCALE:GREGORIAN
METHOD:PUBLISH
BEGIN:VEVENT
UID:69e7501b5c087
DTSTAMP:20260421T102323Z
DTSTART:20241018
DTEND:20241019
LOCATION:
SUMMARY:OCTOBER 18-21\,  2024
DESCRIPTION:OCTOBER 18-21\,  2024\nhttps://stierwaltcattleandclinics.com/ev
 ents/october-18-21-2024/
URL:https://stierwaltcattleandclinics.com/events/october-18-21-2024/
END:VEVENT
END:VCALENDAR