BEGIN:VCALENDAR
VERSION:2.0
PRODID:-//eventon.com NONSGML v1.0//EN
CALSCALE:GREGORIAN
METHOD:PUBLISH
BEGIN:VEVENT
UID:69e810f83f69c
DTSTAMP:20260422T000616Z
DTSTART:20250605
DTEND:20250606
LOCATION:
SUMMARY:JUNE 5-7\,  2025
DESCRIPTION:JUNE 5-7\,  2025\nhttps://stierwaltcattleandclinics.com/events/
 june-5-7-2025/
URL:https://stierwaltcattleandclinics.com/events/june-5-7-2025/
END:VEVENT
END:VCALENDAR