BEGIN:VCALENDAR
VERSION:2.0
PRODID:-//eventon.com NONSGML v1.0//EN
CALSCALE:GREGORIAN
METHOD:PUBLISH
BEGIN:VEVENT
UID:69e9cd708251f
DTSTAMP:20260423T074240Z
DTSTART:20260508T123000Z
DTEND:20260510T123000Z
LOCATION:
SUMMARY:MAY 8-10\,  2026
DESCRIPTION:MAY 8-10\,  2026\nhttps://stierwaltcattleandclinics.com/events/
 may-8-10-2026/
URL:https://stierwaltcattleandclinics.com/events/may-8-10-2026/
END:VEVENT
END:VCALENDAR