BEGIN:VCALENDAR
VERSION:2.0
PRODID:-//eventon.com NONSGML v1.0//EN
CALSCALE:GREGORIAN
METHOD:PUBLISH
BEGIN:VEVENT
UID:69e9ce1e2b39b
DTSTAMP:20260423T074534Z
DTSTART:20260613
DTEND:20260614
LOCATION:
SUMMARY:JULY 10-12\,  2026
DESCRIPTION:JULY 10-12\,  2026\nhttps://stierwaltcattleandclinics.com/event
 s/july-10-12-2026/
URL:https://stierwaltcattleandclinics.com/events/july-10-12-2026/
END:VEVENT
END:VCALENDAR