BEGIN:VCALENDAR
VERSION:2.0
PRODID:-//eventon.com NONSGML v1.0//EN
CALSCALE:GREGORIAN
METHOD:PUBLISH
BEGIN:VEVENT
UID:69e9cefbd6a9d
DTSTAMP:20260423T074915Z
DTSTART:20261021
DTEND:20261022
LOCATION:
SUMMARY:OCTOBER 21-24\,  2026
DESCRIPTION:OCTOBER 21-24\,  2026\nhttps://stierwaltcattleandclinics.com/ev
 ents/october-21-24-2026/
URL:https://stierwaltcattleandclinics.com/events/october-21-24-2026/
END:VEVENT
END:VCALENDAR