BEGIN:VCALENDAR
VERSION:2.0
PRODID:-//eventon.com NONSGML v1.0//EN
CALSCALE:GREGORIAN
METHOD:PUBLISH
BEGIN:VEVENT
UID:69e9cdc8079fe
DTSTAMP:20260423T074408Z
DTSTART:20261023
DTEND:20261024
LOCATION:
SUMMARY:OCTOBER 23-25\,  2026
DESCRIPTION:OCTOBER 23-25\,  2026\nhttps://stierwaltcattleandclinics.com/ev
 ents/october-23-25-2026/
URL:https://stierwaltcattleandclinics.com/events/october-23-25-2026/
END:VEVENT
END:VCALENDAR