BEGIN:VCALENDAR
VERSION:2.0
PRODID:-//eventon.com NONSGML v1.0//EN
CALSCALE:GREGORIAN
METHOD:PUBLISH
BEGIN:VEVENT
UID:69ec9a1bc06c6
DTSTAMP:20260425T104027Z
DTSTART:20190908
DTEND:20190909
LOCATION:
SUMMARY:SEPTEMBER 8\,  2019
DESCRIPTION:SEPTEMBER 8\,  2019\nhttps://stierwaltcattleandclinics.com/even
 ts/september-8-2019/
URL:https://stierwaltcattleandclinics.com/events/september-8-2019/
END:VEVENT
END:VCALENDAR