BEGIN:VCALENDAR
VERSION:2.0
PRODID:-//eventon.com NONSGML v1.0//EN
CALSCALE:GREGORIAN
METHOD:PUBLISH
BEGIN:VEVENT
UID:69e8a58eb8400
DTSTAMP:20260422T104014Z
DTSTART:20190930
DTEND:20191001
LOCATION:
SUMMARY:SEPT. 30 - OCT. 4\,  2019
DESCRIPTION:SEPT. 30 - OCT. 4\,  2019\nhttps://stierwaltcattleandclinics.co
 m/events/sept-30-oct-4-2019/
URL:https://stierwaltcattleandclinics.com/events/sept-30-oct-4-2019/
END:VEVENT
END:VCALENDAR